BEGIN:VCALENDAR
VERSION:2.0
PRODID:-//Der Zwerg - ECPv6.15.20//NONSGML v1.0//EN
CALSCALE:GREGORIAN
METHOD:PUBLISH
X-ORIGINAL-URL:https://www.der-zwerg.com
X-WR-CALDESC:Veranstaltungen für Der Zwerg
REFRESH-INTERVAL;VALUE=DURATION:PT1H
X-Robots-Tag:noindex
X-PUBLISHED-TTL:PT1H
BEGIN:VTIMEZONE
TZID:Europe/Berlin
BEGIN:DAYLIGHT
TZOFFSETFROM:+0100
TZOFFSETTO:+0200
TZNAME:CEST
DTSTART:20210328T010000
END:DAYLIGHT
BEGIN:STANDARD
TZOFFSETFROM:+0200
TZOFFSETTO:+0100
TZNAME:CET
DTSTART:20211031T010000
END:STANDARD
BEGIN:DAYLIGHT
TZOFFSETFROM:+0100
TZOFFSETTO:+0200
TZNAME:CEST
DTSTART:20220327T010000
END:DAYLIGHT
BEGIN:STANDARD
TZOFFSETFROM:+0200
TZOFFSETTO:+0100
TZNAME:CET
DTSTART:20221030T010000
END:STANDARD
BEGIN:DAYLIGHT
TZOFFSETFROM:+0100
TZOFFSETTO:+0200
TZNAME:CEST
DTSTART:20230326T010000
END:DAYLIGHT
BEGIN:STANDARD
TZOFFSETFROM:+0200
TZOFFSETTO:+0100
TZNAME:CET
DTSTART:20231029T010000
END:STANDARD
END:VTIMEZONE
BEGIN:VEVENT
DTSTART;VALUE=DATE:20220514
DTEND;VALUE=DATE:20220516
DTSTAMP:20260423T042155
CREATED:20220531T100915Z
LAST-MODIFIED:20220531T100915Z
UID:270-1652486400-1652659199@www.der-zwerg.com
SUMMARY:Mediaval-Solidaritäts-Festival
DESCRIPTION:
URL:https://www.der-zwerg.com/veranstaltung/mediaval-solidaritaets-festival/
LOCATION:Goldberg\, Kreuzung Franz-Heinrich-Straße/ Wunsiedler Straße\, Selb\, 95100
CATEGORIES:Festival
ATTACH;FMTTYPE=image/jpeg:https://www.der-zwerg.com/wp-content/uploads/2022/05/mediaval-solidaritt_2022.jpg
END:VEVENT
END:VCALENDAR