BEGIN:VCALENDAR
VERSION:2.0
PRODID:-//Der Zwerg - ECPv6.15.20//NONSGML v1.0//EN
CALSCALE:GREGORIAN
METHOD:PUBLISH
X-ORIGINAL-URL:https://www.der-zwerg.com
X-WR-CALDESC:Veranstaltungen für Der Zwerg
REFRESH-INTERVAL;VALUE=DURATION:PT1H
X-Robots-Tag:noindex
X-PUBLISHED-TTL:PT1H
BEGIN:VTIMEZONE
TZID:Europe/Berlin
BEGIN:DAYLIGHT
TZOFFSETFROM:+0100
TZOFFSETTO:+0200
TZNAME:CEST
DTSTART:20210328T010000
END:DAYLIGHT
BEGIN:STANDARD
TZOFFSETFROM:+0200
TZOFFSETTO:+0100
TZNAME:CET
DTSTART:20211031T010000
END:STANDARD
BEGIN:DAYLIGHT
TZOFFSETFROM:+0100
TZOFFSETTO:+0200
TZNAME:CEST
DTSTART:20220327T010000
END:DAYLIGHT
BEGIN:STANDARD
TZOFFSETFROM:+0200
TZOFFSETTO:+0100
TZNAME:CET
DTSTART:20221030T010000
END:STANDARD
BEGIN:DAYLIGHT
TZOFFSETFROM:+0100
TZOFFSETTO:+0200
TZNAME:CEST
DTSTART:20230326T010000
END:DAYLIGHT
BEGIN:STANDARD
TZOFFSETFROM:+0200
TZOFFSETTO:+0100
TZNAME:CET
DTSTART:20231029T010000
END:STANDARD
END:VTIMEZONE
BEGIN:VEVENT
DTSTART;VALUE=DATE:20220615
DTEND;VALUE=DATE:20220619
DTSTAMP:20260423T023629
CREATED:20220531T054706Z
LAST-MODIFIED:20220531T065316Z
UID:193-1655251200-1655596799@www.der-zwerg.com
SUMMARY:StuStaCulum
DESCRIPTION:Der Eintritt gilt für alle vier Tage mit Zugang zu allen drei Bühnen und allem drumherum!\nEinzeltageskarten\, eine Gaderobe oder einen Vorverkauf gibt es nicht. \nDa es mit dem Parken um das Gelände herum schlecht aussieht\, reist am besten mit den öffentlichen Verkehrsmitteln\, mit dem Fahrrad oder zu Fuß an. Die U-Bahn-Station und Bushaltestelle Studentenstadt ist nur 3 Gehminuten entfernt. \nDas Line Up und restliche Programm findet ihr neben der Homepage auch in der offiziellen StuStaCulum-App. Jegliche (auch wetterbedingte) Programmänderungen werden hier auf der Homepage\, in der App und vor Ort bekannt gegeben. \nDie Öffnungszeiten sind: \n\nMittwoch ab 16:00 Uhr\nDonnerstag ab 10:00 Uhr\nFreitag ab 15:00 Uhr\nSamstag ab 10:00 Uhr
URL:https://www.der-zwerg.com/veranstaltung/stustaculum/
LOCATION:Student:innenstadt Freimann\, München\, 80805\, Deutschland
CATEGORIES:Festival
ATTACH;FMTTYPE=image/jpeg:https://www.der-zwerg.com/wp-content/uploads/2022/05/StuStaCulum_2022-e1653975722545.jpg
END:VEVENT
END:VCALENDAR