BEGIN:VCALENDAR
VERSION:2.0
PRODID:-//Der Zwerg - ECPv6.15.20//NONSGML v1.0//EN
CALSCALE:GREGORIAN
METHOD:PUBLISH
X-ORIGINAL-URL:https://www.der-zwerg.com
X-WR-CALDESC:Veranstaltungen für Der Zwerg
REFRESH-INTERVAL;VALUE=DURATION:PT1H
X-Robots-Tag:noindex
X-PUBLISHED-TTL:PT1H
BEGIN:VTIMEZONE
TZID:Europe/Berlin
BEGIN:DAYLIGHT
TZOFFSETFROM:+0100
TZOFFSETTO:+0200
TZNAME:CEST
DTSTART:20210328T010000
END:DAYLIGHT
BEGIN:STANDARD
TZOFFSETFROM:+0200
TZOFFSETTO:+0100
TZNAME:CET
DTSTART:20211031T010000
END:STANDARD
BEGIN:DAYLIGHT
TZOFFSETFROM:+0100
TZOFFSETTO:+0200
TZNAME:CEST
DTSTART:20220327T010000
END:DAYLIGHT
BEGIN:STANDARD
TZOFFSETFROM:+0200
TZOFFSETTO:+0100
TZNAME:CET
DTSTART:20221030T010000
END:STANDARD
BEGIN:DAYLIGHT
TZOFFSETFROM:+0100
TZOFFSETTO:+0200
TZNAME:CEST
DTSTART:20230326T010000
END:DAYLIGHT
BEGIN:STANDARD
TZOFFSETFROM:+0200
TZOFFSETTO:+0100
TZNAME:CET
DTSTART:20231029T010000
END:STANDARD
END:VTIMEZONE
BEGIN:VEVENT
DTSTART;VALUE=DATE:20220708
DTEND;VALUE=DATE:20220710
DTSTAMP:20260423T005347
CREATED:20220531T063026Z
LAST-MODIFIED:20220531T065250Z
UID:203-1657238400-1657411199@www.der-zwerg.com
SUMMARY:Waldstock
DESCRIPTION:Seit 1994 wird das wunderschöne Umsonst-und-Draußen-Festival auf dem Pegnitzer Schlossberg veranstaltet. Anfang Juli lockt es seit Jahren immer mehr Menschen auf die dortige Festwiese\, die jedes Jahr in ein kleines Zauberland verwandelt wird. \nFreitagabend steht meist im Zeichen von Folk\, Singer-Songwritern\, Jazz und Globalpop. Dazu finden sich inzwischen fast so viele Menschen ein wie an unserem Haupttag\, dem Waldstocksamstag\, an dem alles von regionalen Größen bis zu internationalen Newcomern geboten wird! Außerdem gibt es ein breites Rahmenprogramm\, in dem ihr tolle Workshops\, Bands auf alternativen Bühnen und vieles mehr findet.
URL:https://www.der-zwerg.com/veranstaltung/waldstock/
LOCATION:Schlossberg Pegnitz\, Pegnitz\, 91257\, Deutschland
CATEGORIES:Festival
ATTACH;FMTTYPE=image/png:https://www.der-zwerg.com/wp-content/uploads/2022/05/Waldstock_2022.png
END:VEVENT
BEGIN:VEVENT
DTSTART;VALUE=DATE:20220728
DTEND;VALUE=DATE:20220801
DTSTAMP:20260423T005347
CREATED:20220531T070208Z
LAST-MODIFIED:20220604T143508Z
UID:216-1658966400-1659311999@www.der-zwerg.com
SUMMARY:Herzberg Festival
DESCRIPTION:KONZERTE\, WORKSHOPS\, LESUNGEN\, KULINARISCHES\, ENTSPANNUNG\, NATUR\, FAMILIE UND FREUNDE\nJedes Jahr verwandelt sich die Wiese am Fuße der Burg Herzberg im hessischen Breitenbach am Herzberg in eine kleine\, magische Stadt. Sie entführt ihre Besucher:innen in eine Welt voller Liebe und Frieden\, lässt den Alltag für ein paar Tage vergessen\, bringt Menschen zusammen.
URL:https://www.der-zwerg.com/veranstaltung/herzberg-festival/
LOCATION:Burg Herzberg\, Hofhuhnstadt\, Breitenbach am Herzberg\, 36287\, Deutschland
CATEGORIES:Festival
ATTACH;FMTTYPE=image/png:https://www.der-zwerg.com/wp-content/uploads/2022/05/pic_logo-burgherzberg-2019-e1736433162505.png
END:VEVENT
BEGIN:VEVENT
DTSTART;VALUE=DATE:20220729
DTEND;VALUE=DATE:20220731
DTSTAMP:20260423T005347
CREATED:20220531T081909Z
LAST-MODIFIED:20220531T081909Z
UID:223-1659052800-1659225599@www.der-zwerg.com
SUMMARY:Reggae in Wulf
DESCRIPTION:
URL:https://www.der-zwerg.com/veranstaltung/reggae-in-wulf/
LOCATION:Wulfertshausen\, Moosstraße 9\, Friedberg\, 86316\, Deutschland
CATEGORIES:Festival
ATTACH;FMTTYPE=image/jpeg:https://www.der-zwerg.com/wp-content/uploads/2022/05/RiW_2022.jpg
END:VEVENT
END:VCALENDAR