BEGIN:VCALENDAR
VERSION:2.0
PRODID:-//Der Zwerg - ECPv6.15.20//NONSGML v1.0//EN
CALSCALE:GREGORIAN
METHOD:PUBLISH
X-ORIGINAL-URL:https://www.der-zwerg.com
X-WR-CALDESC:Veranstaltungen für Der Zwerg
REFRESH-INTERVAL;VALUE=DURATION:PT1H
X-Robots-Tag:noindex
X-PUBLISHED-TTL:PT1H
BEGIN:VTIMEZONE
TZID:Europe/Berlin
BEGIN:DAYLIGHT
TZOFFSETFROM:+0100
TZOFFSETTO:+0200
TZNAME:CEST
DTSTART:20220327T010000
END:DAYLIGHT
BEGIN:STANDARD
TZOFFSETFROM:+0200
TZOFFSETTO:+0100
TZNAME:CET
DTSTART:20221030T010000
END:STANDARD
BEGIN:DAYLIGHT
TZOFFSETFROM:+0100
TZOFFSETTO:+0200
TZNAME:CEST
DTSTART:20230326T010000
END:DAYLIGHT
BEGIN:STANDARD
TZOFFSETFROM:+0200
TZOFFSETTO:+0100
TZNAME:CET
DTSTART:20231029T010000
END:STANDARD
BEGIN:DAYLIGHT
TZOFFSETFROM:+0100
TZOFFSETTO:+0200
TZNAME:CEST
DTSTART:20240331T010000
END:DAYLIGHT
BEGIN:STANDARD
TZOFFSETFROM:+0200
TZOFFSETTO:+0100
TZNAME:CET
DTSTART:20241027T010000
END:STANDARD
END:VTIMEZONE
BEGIN:VEVENT
DTSTART;VALUE=DATE:20230607
DTEND;VALUE=DATE:20230611
DTSTAMP:20260422T090426
CREATED:20221019T154123Z
LAST-MODIFIED:20221019T154123Z
UID:1024-1686096000-1686441599@www.der-zwerg.com
SUMMARY:StuStaCulum
DESCRIPTION:4 Tage\, 3 Bühnen
URL:https://www.der-zwerg.com/veranstaltung/stustaculum-23/
LOCATION:Student:innenstadt Freimann\, München\, 80805\, Deutschland
CATEGORIES:Festival
ATTACH;FMTTYPE=image/jpeg:https://www.der-zwerg.com/wp-content/uploads/2022/10/StuStaCulum2022.jpg
END:VEVENT
END:VCALENDAR