BEGIN:VCALENDAR
VERSION:2.0
PRODID:-//Der Zwerg - ECPv6.15.20//NONSGML v1.0//EN
CALSCALE:GREGORIAN
METHOD:PUBLISH
X-WR-CALNAME:Der Zwerg
X-ORIGINAL-URL:https://www.der-zwerg.com
X-WR-CALDESC:Veranstaltungen für Der Zwerg
REFRESH-INTERVAL;VALUE=DURATION:PT1H
X-Robots-Tag:noindex
X-PUBLISHED-TTL:PT1H
BEGIN:VTIMEZONE
TZID:Europe/Berlin
BEGIN:DAYLIGHT
TZOFFSETFROM:+0100
TZOFFSETTO:+0200
TZNAME:CEST
DTSTART:20220327T010000
END:DAYLIGHT
BEGIN:STANDARD
TZOFFSETFROM:+0200
TZOFFSETTO:+0100
TZNAME:CET
DTSTART:20221030T010000
END:STANDARD
BEGIN:DAYLIGHT
TZOFFSETFROM:+0100
TZOFFSETTO:+0200
TZNAME:CEST
DTSTART:20230326T010000
END:DAYLIGHT
BEGIN:STANDARD
TZOFFSETFROM:+0200
TZOFFSETTO:+0100
TZNAME:CET
DTSTART:20231029T010000
END:STANDARD
BEGIN:DAYLIGHT
TZOFFSETFROM:+0100
TZOFFSETTO:+0200
TZNAME:CEST
DTSTART:20240331T010000
END:DAYLIGHT
BEGIN:STANDARD
TZOFFSETFROM:+0200
TZOFFSETTO:+0100
TZNAME:CET
DTSTART:20241027T010000
END:STANDARD
END:VTIMEZONE
BEGIN:VEVENT
DTSTART;VALUE=DATE:20230707
DTEND;VALUE=DATE:20230709
DTSTAMP:20260422T072926
CREATED:20230113T171326Z
LAST-MODIFIED:20230113T171326Z
UID:1321-1688688000-1688860799@www.der-zwerg.com
SUMMARY:Waldstock
DESCRIPTION:Seit 1994 wird das wunderschöne Umsonst-und-Draußen-Festival auf dem Pegnitzer Schlossberg veranstaltet. Anfang Juli lockt es seit Jahren immer mehr Menschen auf die dortige Festwiese\, die jedes Jahr in ein kleines Zauberland verwandelt wird. \nFreitagabend steht meist im Zeichen von Folk\, Singer-Songwritern\, Jazz und Globalpop. Dazu finden sich inzwischen fast so viele Menschen ein wie an unserem Haupttag\, dem Waldstocksamstag\, an dem alles von regionalen Größen bis zu internationalen Newcomern geboten wird! Außerdem gibt es ein breites Rahmenprogramm\, in dem ihr tolle Workshops\, Bands auf alternativen Bühnen und vieles mehr findet.
URL:https://www.der-zwerg.com/veranstaltung/waldstock-23/
LOCATION:Schlossberg Pegnitz\, Pegnitz\, 91257\, Deutschland
CATEGORIES:Festival
ATTACH;FMTTYPE=image/jpeg:https://www.der-zwerg.com/wp-content/uploads/2023/01/Waldstock.jpg
END:VEVENT
BEGIN:VEVENT
DTSTART;VALUE=DATE:20230727
DTEND;VALUE=DATE:20230731
DTSTAMP:20260422T072926
CREATED:20221019T154812Z
LAST-MODIFIED:20230124T110042Z
UID:1028-1690416000-1690761599@www.der-zwerg.com
SUMMARY:Herzberg Festival
DESCRIPTION:KONZERTE\, WORKSHOPS\, LESUNGEN\, KULINARISCHES\, ENTSPANNUNG\, NATUR\, FAMILIE UND FREUNDE\nJedes Jahr verwandelt sich die Wiese am Fuße der Burg Herzberg im hessischen Breitenbach am Herzberg in eine kleine\, magische Stadt. Sie entführt ihre Besucher:innen in eine Welt voller Liebe und Frieden\, lässt den Alltag für ein paar Tage vergessen\, bringt Menschen zusammen.\n\n  \nTickets und mehr unter https://www.burgherzberg-shop.de/
URL:https://www.der-zwerg.com/veranstaltung/herzberg-festival-23/
LOCATION:Burg Herzberg\, Hofhuhnstadt\, Breitenbach am Herzberg\, 36287\, Deutschland
CATEGORIES:Festival
ATTACH;FMTTYPE=image/jpeg:https://www.der-zwerg.com/wp-content/uploads/2022/10/herzberg-logo-2023.jpg
END:VEVENT
BEGIN:VEVENT
DTSTART;VALUE=DATE:20230728
DTEND;VALUE=DATE:20230730
DTSTAMP:20260422T072926
CREATED:20230124T105902Z
LAST-MODIFIED:20230124T105902Z
UID:1362-1690502400-1690675199@www.der-zwerg.com
SUMMARY:Reggae in Wulf
DESCRIPTION:
URL:https://www.der-zwerg.com/veranstaltung/reggae-in-wulf-23/
LOCATION:Wulfertshausen\, Moosstraße 9\, Friedberg\, 86316\, Deutschland
CATEGORIES:Festival
ATTACH;FMTTYPE=image/jpeg:https://www.der-zwerg.com/wp-content/uploads/2023/01/raggaeinwulf.jpg
END:VEVENT
END:VCALENDAR